BEGIN:VCALENDAR
VERSION:2.0
PRODID:-//Squarespace Inc/Squarespace 6//v6//EN
BEGIN:VEVENT
UID:59e6b1556957da312c3e32a1@squarespace.com
DTSTAMP:20171018T014159Z
DTSTART:20171119T230000Z
DTEND:20171119T230000Z
SUMMARY:6W - English - Miss T Wright (Fantasy World)
END:VEVENT
END:VCALENDAR
