BEGIN:VCALENDAR
VERSION:2.0
PRODID:-//Squarespace Inc/Squarespace 6//v6//EN
BEGIN:VEVENT
UID:59e6b1beccc5c588c62a7bdc@squarespace.com
DTSTAMP:20171018T014340Z
DTSTART:20171122T230000Z
DTEND:20171122T230000Z
SUMMARY:6S - Science - Mr R Ball (Circuits and Switches Investigation)
END:VEVENT
END:VCALENDAR
