BEGIN:VCALENDAR
VERSION:2.0
PRODID:-//Squarespace Inc/Squarespace 6//v6//EN
BEGIN:VEVENT
UID:59e6b19dccc5c588c62a7a53@squarespace.com
DTSTAMP:20171018T014310Z
DTSTART:20171122T230000Z
DTEND:20171122T230000Z
SUMMARY:6W - Science - Miss T Wright (Circuits and Switches Investigation)
END:VEVENT
END:VCALENDAR
