BEGIN:VCALENDAR
VERSION:2.0
PRODID:-//Squarespace Inc/Squarespace 6//v6//EN
BEGIN:VEVENT
UID:59e6b1dcf43b55c4acb40e94@squarespace.com
DTSTAMP:20171018T014417Z
DTSTART:20171126T230000Z
DTEND:20171126T230000Z
SUMMARY:6S - Visual Art - Miss P Simonka (Artwork & Reflection)
END:VEVENT
END:VCALENDAR
