BEGIN:VCALENDAR
VERSION:2.0
PRODID:-//Squarespace Inc/Squarespace 6//v6//EN
BEGIN:VEVENT
UID:59e6b0d17131a5e036bc59a6@squarespace.com
DTSTAMP:20171018T014012Z
DTSTART:20171105T230000Z
DTEND:20171105T230000Z
SUMMARY:6S - Health - Miss R Lowe (What Makes A Friend? Workbook)
END:VEVENT
END:VCALENDAR
