BEGIN:VCALENDAR
VERSION:2.0
PRODID:-//Squarespace Inc/Squarespace 6//v6//EN
BEGIN:VEVENT
UID:5974d0bdb3db2b4e8bfe5f9d@squarespace.com
DTSTAMP:20170726T220506Z
DTSTART:20170825T120000Z
DTEND:20170825T130000Z
SUMMARY:6S - HPE - Miss Lowe (What Am I Drinking?)
END:VEVENT
END:VCALENDAR
