BEGIN:VCALENDAR
VERSION:2.0
PRODID:-//Squarespace Inc/Squarespace 6//v6//EN
BEGIN:VEVENT
UID:5974d1eed1758e2554ac20c7@squarespace.com
DTSTAMP:20170726T221834Z
DTSTART:20170911T120000Z
DTEND:20170911T130000Z
SUMMARY:6S - Visual Art (Miss Simonka) Exploring the Elements of Art
END:VEVENT
END:VCALENDAR
