BEGIN:VCALENDAR
VERSION:2.0
PRODID:-//Squarespace Inc/Squarespace 6//v6//EN
BEGIN:VEVENT
UID:5974d218b8a79b94b0c21e3d@squarespace.com
DTSTAMP:20170726T222728Z
DTSTART:20170912T120000Z
DTEND:20170912T130000Z
SUMMARY:6S - English (Miss Simonka) Informative Book
END:VEVENT
END:VCALENDAR
