BEGIN:VCALENDAR
VERSION:2.0
PRODID:-//Squarespace Inc/Squarespace 6//v6//EN
BEGIN:VEVENT
UID:5974d23de45a7cc661b05c05@squarespace.com
DTSTAMP:20170726T222819Z
DTSTART:20170912T120000Z
DTEND:20170912T130000Z
SUMMARY:6W - English (Miss Wright) Informative Book
END:VEVENT
END:VCALENDAR
