BEGIN:VCALENDAR
VERSION:2.0
PRODID:-//Squarespace Inc/Squarespace 6//v6//EN
BEGIN:VEVENT
UID:5974d260e45a7cc661b05d5a@squarespace.com
DTSTAMP:20170726T223621Z
DTSTART:20170913T120000Z
DTEND:20170913T130000Z
SUMMARY:6S - HaSS (Miss Simonka) Comparing an Imaginary Nation
END:VEVENT
END:VCALENDAR
