BEGIN:VCALENDAR
VERSION:2.0
PRODID:-//Squarespace Inc/Squarespace 6//v6//EN
BEGIN:VEVENT
UID:5974d29137c581dd462e49c4@squarespace.com
DTSTAMP:20171010T010210Z
DTSTART:20170913T120000Z
DTEND:20170913T130000Z
SUMMARY:6W - HaSS (Miss Tahnee Wright) Comparing an Imaginary Nation
END:VEVENT
END:VCALENDAR
