BEGIN:VCALENDAR
VERSION:2.0
PRODID:-//Squarespace Inc/Squarespace 6//v6//EN
BEGIN:VEVENT
UID:5974d2b52e69cf20a280c220@squarespace.com
DTSTAMP:20170726T223102Z
DTSTART:20170913T120000Z
DTEND:20170913T130000Z
SUMMARY:6W - Japanese (Mr P Ball) Oral Assessment
END:VEVENT
END:VCALENDAR
