BEGIN:VCALENDAR
VERSION:2.0
PRODID:-//Squarespace Inc/Squarespace 6//v6//EN
BEGIN:VEVENT
UID:5974d133b3db2b4e8bfe6430@squarespace.com
DTSTAMP:20170726T220837Z
DTSTART:20170904T120000Z
DTEND:20170904T130000Z
SUMMARY:6W - Design Technology (Mr Manskie) Practical - Keyring
END:VEVENT
END:VCALENDAR
