BEGIN:VCALENDAR
VERSION:2.0
PRODID:-//Squarespace Inc/Squarespace 6//v6//EN
BEGIN:VEVENT
UID:5974d163bebafb04b95a6537@squarespace.com
DTSTAMP:20170726T221250Z
DTSTART:20170906T120000Z
DTEND:20170906T130000Z
SUMMARY:6W - Japanese (Mr P Ball) Oral Assessment
END:VEVENT
END:VCALENDAR
