BEGIN:VCALENDAR
VERSION:2.0
PRODID:-//Squarespace Inc/Squarespace 6//v6//EN
BEGIN:VEVENT
UID:5974d19e46c3c431eb5cc622@squarespace.com
DTSTAMP:20170726T221456Z
DTSTART:20170907T120000Z
DTEND:20170907T130000Z
SUMMARY:6S - Science (Mr R Ball) Best Seed Shape Scientific Presentation
END:VEVENT
END:VCALENDAR
