BEGIN:VCALENDAR
VERSION:2.0
PRODID:-//Squarespace Inc/Squarespace 6//v6//EN
BEGIN:VEVENT
UID:59e6b4d629f1876c72dadb82@squarespace.com
DTSTAMP:20171018T015649Z
DTSTART:20171017T230000Z
DTEND:20171017T230000Z
SUMMARY:7L - Horticulture - Mr R Ball (Sunflower Assignment)
END:VEVENT
END:VCALENDAR
