BEGIN:VCALENDAR
VERSION:2.0
PRODID:-//Squarespace Inc/Squarespace 6//v6//EN
BEGIN:VEVENT
UID:59e6b547fe54ef1cd45e9c86@squarespace.com
DTSTAMP:20171024T031359Z
DTSTART:20171120T033000Z
DTEND:20171120T044000Z
SUMMARY:7L  - Science - Mrs L Harrold (Forces Unit - Examination)
END:VEVENT
END:VCALENDAR
