BEGIN:VCALENDAR
VERSION:2.0
PRODID:-//Squarespace Inc/Squarespace 6//v6//EN
BEGIN:VEVENT
UID:59e6b4522aeba5fd99e01c5b@squarespace.com
DTSTAMP:20171018T015435Z
DTSTART:20171017T230000Z
DTEND:20171017T230000Z
SUMMARY:7S - HaSS - Mr Smith (Sensory Walk of Ancient Greece)
END:VEVENT
END:VCALENDAR
