BEGIN:VCALENDAR
VERSION:2.0
PRODID:-//Squarespace Inc/Squarespace 6//v6//EN
BEGIN:VEVENT
UID:59e6b52cd55b41fe0e52af10@squarespace.com
DTSTAMP:20171018T015818Z
DTSTART:20171021T230000Z
DTEND:20171021T230000Z
SUMMARY:7L -  Drama - Ms Gault (Dust Echoes Performance)
END:VEVENT
END:VCALENDAR
