BEGIN:VCALENDAR
VERSION:2.0
PRODID:-//Squarespace Inc/Squarespace 6//v6//EN
BEGIN:VEVENT
UID:59e6b55efe54ef1cd45e9d88@squarespace.com
DTSTAMP:20171018T015911Z
DTSTART:20171023T230000Z
DTEND:20171023T230000Z
SUMMARY:7S - Visual Art - Miss P Simonka (Artwork & Reflection)
END:VEVENT
END:VCALENDAR
