BEGIN:VCALENDAR
VERSION:2.0
PRODID:-//Squarespace Inc/Squarespace 6//v6//EN
BEGIN:VEVENT
UID:59e6b43051a58418f28367c6@squarespace.com
DTSTAMP:20171018T015409Z
DTSTART:20171112T230000Z
DTEND:20171112T230000Z
SUMMARY:7H - HaSS - Mrs Humphreys (Sensory Walk of Ancient Greece)
END:VEVENT
END:VCALENDAR
