BEGIN:VCALENDAR
VERSION:2.0
PRODID:-//Squarespace Inc/Squarespace 6//v6//EN
BEGIN:VEVENT
UID:59e6b4b512abd996792b8e54@squarespace.com
DTSTAMP:20171018T015621Z
DTSTART:20171113T230000Z
DTEND:20171113T230000Z
SUMMARY:7H  - Science - Mrs R Ball Forces Unit Examination
END:VEVENT
END:VCALENDAR
