BEGIN:VCALENDAR
VERSION:2.0
PRODID:-//Squarespace Inc/Squarespace 6//v6//EN
BEGIN:VEVENT
UID:59e6b46b29f1876c72dad6f7@squarespace.com
DTSTAMP:20171018T015513Z
DTSTART:20171113T230000Z
DTEND:20171113T230000Z
SUMMARY:7L - HaSS - Miss Lowe (Sensory Walk of Ancient Greece)
END:VEVENT
END:VCALENDAR
