BEGIN:VCALENDAR
VERSION:2.0
PRODID:-//Squarespace Inc/Squarespace 6//v6//EN
BEGIN:VEVENT
UID:59e6b494fe54ef1cd45e9499@squarespace.com
DTSTAMP:20171018T015550Z
DTSTART:20171113T230000Z
DTEND:20171113T230000Z
SUMMARY:7S - Horticulture - Mr R Ball (Sunflower Assignment)
END:VEVENT
END:VCALENDAR
