BEGIN:VCALENDAR
VERSION:2.0
PRODID:-//Squarespace Inc/Squarespace 6//v6//EN
BEGIN:VEVENT
UID:59e6b4f1ccc5c588c62aa31f@squarespace.com
DTSTAMP:20171018T015721Z
DTSTART:20171116T230000Z
DTEND:20171116T230000Z
SUMMARY:7L  - Science - Mrs L Harrold (EEI - All week 7- Forces)
END:VEVENT
END:VCALENDAR
