BEGIN:VCALENDAR
VERSION:2.0
PRODID:-//Squarespace Inc/Squarespace 6//v6//EN
BEGIN:VEVENT
UID:59e6b5106957da312c3e602d@squarespace.com
DTSTAMP:20171018T015751Z
DTSTART:20171120T230000Z
DTEND:20171120T230000Z
SUMMARY:7H - Drama - Ms Gault (Dust Echoes Performance)
END:VEVENT
END:VCALENDAR
