BEGIN:VCALENDAR
VERSION:2.0
PRODID:-//Squarespace Inc/Squarespace 6//v6//EN
BEGIN:VEVENT
UID:59e6b57d6f4ca39efcff9596@squarespace.com
DTSTAMP:20171018T015941Z
DTSTART:20171123T230000Z
DTEND:20171123T230000Z
SUMMARY:7H - Design Technology - Mr Manskie (Project - Basketball Hoop)
END:VEVENT
END:VCALENDAR
