BEGIN:VCALENDAR
VERSION:2.0
PRODID:-//Squarespace Inc/Squarespace 6//v6//EN
BEGIN:VEVENT
UID:59e6b59cace8643bba09fdfd@squarespace.com
DTSTAMP:20171018T020016Z
DTSTART:20171123T230000Z
DTEND:20171123T230000Z
SUMMARY:7H  - Science - Mr R Ball (EEI - All week 7 - Forces)
END:VEVENT
END:VCALENDAR
