BEGIN:VCALENDAR
VERSION:2.0
PRODID:-//Squarespace Inc/Squarespace 6//v6//EN
BEGIN:VEVENT
UID:59e6b3318c56a815a1cf659e@squarespace.com
DTSTAMP:20171018T015000Z
DTSTART:20171105T230000Z
DTEND:20171105T230000Z
SUMMARY:7L - Food Technology - Mr D Jeffs (Adolescent Healthy Lunch Cookery
 )
END:VEVENT
END:VCALENDAR
