BEGIN:VCALENDAR
VERSION:2.0
PRODID:-//Squarespace Inc/Squarespace 6//v6//EN
BEGIN:VEVENT
UID:59e6b355a803bbeb8a2f76e0@squarespace.com
DTSTAMP:20171018T015039Z
DTSTART:20171106T230000Z
DTEND:20171106T230000Z
SUMMARY:7L  - English - Miss Lowe (Filling a Gap or Silence)
END:VEVENT
END:VCALENDAR
