BEGIN:VCALENDAR
VERSION:2.0
PRODID:-//Squarespace Inc/Squarespace 6//v6//EN
BEGIN:VEVENT
UID:59e6b37a8dd0411d4b456e01@squarespace.com
DTSTAMP:20171018T015114Z
DTSTART:20171107T230000Z
DTEND:20171107T230000Z
SUMMARY:7S  - English - Mr Smith (Filling a Gap or Silence] 
END:VEVENT
END:VCALENDAR
