BEGIN:VCALENDAR
VERSION:2.0
PRODID:-//Squarespace Inc/Squarespace 6//v6//EN
BEGIN:VEVENT
UID:59e6b3dcd74cff034bb6d756@squarespace.com
DTSTAMP:20171018T015248Z
DTSTART:20171108T230000Z
DTEND:20171108T230000Z
SUMMARY:7H  - English - Mrs Humphreys  (Filling a Gap or Silence]
END:VEVENT
END:VCALENDAR
