BEGIN:VCALENDAR
VERSION:2.0
PRODID:-//Squarespace Inc/Squarespace 6//v6//EN
BEGIN:VEVENT
UID:59e6b3a0a9db0951565abf5d@squarespace.com
DTSTAMP:20171018T015143Z
DTSTART:20171108T230000Z
DTEND:20171108T230000Z
SUMMARY:7H - Food Technology - Mr D Jeffs (Adolescent Healthy Lunch Cookery
 )
END:VEVENT
END:VCALENDAR
