BEGIN:VCALENDAR
VERSION:2.0
PRODID:-//Squarespace Inc/Squarespace 6//v6//EN
BEGIN:VEVENT
UID:5974d38529687fd9f2b00540@squarespace.com
DTSTAMP:20170726T223831Z
DTSTART:20170817T120000Z
DTEND:20170817T130000Z
SUMMARY:7L - Science (Mrs Harrold) Seasons Presentation
END:VEVENT
END:VCALENDAR
