BEGIN:VCALENDAR
VERSION:2.0
PRODID:-//Squarespace Inc/Squarespace 6//v6//EN
BEGIN:VEVENT
UID:5974d3b4f9a61e08c67b8fdb@squarespace.com
DTSTAMP:20170726T224036Z
DTSTART:20170818T120000Z
DTEND:20170818T130000Z
SUMMARY:7H - Science (Mr R Ball) Seasons Presentation
END:VEVENT
END:VCALENDAR
