BEGIN:VCALENDAR
VERSION:2.0
PRODID:-//Squarespace Inc/Squarespace 6//v6//EN
BEGIN:VEVENT
UID:59791c20f14aa19f199d6994@squarespace.com
DTSTAMP:20170726T225441Z
DTSTART:20170818T120000Z
DTEND:20170818T130000Z
SUMMARY:7S - Science (Mr North) Seasons Presentation 
END:VEVENT
END:VCALENDAR
