BEGIN:VCALENDAR
VERSION:2.0
PRODID:-//Squarespace Inc/Squarespace 6//v6//EN
BEGIN:VEVENT
UID:5974d3e9c534a5ea5dd70d5d@squarespace.com
DTSTAMP:20170726T224411Z
DTSTART:20170829T120000Z
DTEND:20170829T130000Z
SUMMARY:7S - Horticulture (Mr R Ball) Soil Quiz
END:VEVENT
END:VCALENDAR
