BEGIN:VCALENDAR
VERSION:2.0
PRODID:-//Squarespace Inc/Squarespace 6//v6//EN
BEGIN:VEVENT
UID:5974d4137131a5260757de23@squarespace.com
DTSTAMP:20170726T224458Z
DTSTART:20170831T120000Z
DTEND:20170831T130000Z
SUMMARY:7L - Horticulture (Mr R Ball) Soil Quiz
END:VEVENT
END:VCALENDAR
