BEGIN:VCALENDAR
VERSION:2.0
PRODID:-//Squarespace Inc/Squarespace 6//v6//EN
BEGIN:VEVENT
UID:5974d32ed2b85704bb521597@squarespace.com
DTSTAMP:20170726T223757Z
DTSTART:20170809T120000Z
DTEND:20170809T130000Z
SUMMARY:7H - History (Mrs Humphreys) Ancient China Diary Entries
END:VEVENT
END:VCALENDAR
