BEGIN:VCALENDAR
VERSION:2.0
PRODID:-//Squarespace Inc/Squarespace 6//v6//EN
BEGIN:VEVENT
UID:5974d45f7131a5260757e128@squarespace.com
DTSTAMP:20170726T225813Z
DTSTART:20170901T120000Z
DTEND:20170901T130000Z
SUMMARY:7S - Visual Art (Miss Simonka) Me\, Myself & I Self-Portrait
END:VEVENT
END:VCALENDAR
