BEGIN:VCALENDAR
VERSION:2.0
PRODID:-//Squarespace Inc/Squarespace 6//v6//EN
BEGIN:VEVENT
UID:5974d5b19de4bb2cc35f0ce4@squarespace.com
DTSTAMP:20170726T230329Z
DTSTART:20170911T120000Z
DTEND:20170911T130000Z
SUMMARY:7L - Food Technology (Mr Jeffs) Practical Cookery Assessment
END:VEVENT
END:VCALENDAR
