BEGIN:VCALENDAR
VERSION:2.0
PRODID:-//Squarespace Inc/Squarespace 6//v6//EN
BEGIN:VEVENT
UID:59adfe20f7e0ab08ae5147ae@squarespace.com
DTSTAMP:20170905T013046Z
DTSTART:20170911T120000Z
DTEND:20170911T130000Z
SUMMARY:7S - History (Mrs Humphreys) Ancient China Diary Entries
END:VEVENT
END:VCALENDAR
