BEGIN:VCALENDAR
VERSION:2.0
PRODID:-//Squarespace Inc/Squarespace 6//v6//EN
BEGIN:VEVENT
UID:5974d5d5db29d6a05c5bde14@squarespace.com
DTSTAMP:20170726T230409Z
DTSTART:20170914T120000Z
DTEND:20170914T130000Z
SUMMARY:7H - Food Technology (Mr Jeffs)Practical Cookery Assessment
END:VEVENT
END:VCALENDAR
