BEGIN:VCALENDAR
VERSION:2.0
PRODID:-//Squarespace Inc/Squarespace 6//v6//EN
BEGIN:VEVENT
UID:5974d626e45a7cc661b08366@squarespace.com
DTSTAMP:20170905T012856Z
DTSTART:20170912T120000Z
DTEND:20170912T130000Z
SUMMARY:7H - English (Mrs Humphreys) Multimodal Poetry Analysis
END:VEVENT
END:VCALENDAR
