BEGIN:VCALENDAR
VERSION:2.0
PRODID:-//Squarespace Inc/Squarespace 6//v6//EN
BEGIN:VEVENT
UID:5974d675725e25e03b69cc66@squarespace.com
DTSTAMP:20170905T012825Z
DTSTART:20170912T120000Z
DTEND:20170912T130000Z
SUMMARY:7S - English (Mr Smith) Multimodal Poetry Analysis
END:VEVENT
END:VCALENDAR
