BEGIN:VCALENDAR
VERSION:2.0
PRODID:-//Squarespace Inc/Squarespace 6//v6//EN
BEGIN:VEVENT
UID:5974d5f79f7456e02381f46e@squarespace.com
DTSTAMP:20170905T013555Z
DTSTART:20170914T120000Z
DTEND:20170914T130000Z
SUMMARY:7L - English (Miss Lowe) Multimodal Poetry Analysis
END:VEVENT
END:VCALENDAR
