BEGIN:VCALENDAR
VERSION:2.0
PRODID:-//Squarespace Inc/Squarespace 6//v6//EN
BEGIN:VEVENT
UID:5974d4aa1e5b6c34b273d3df@squarespace.com
DTSTAMP:20170726T225850Z
DTSTART:20170904T120000Z
DTEND:20170904T130000Z
SUMMARY:7H - HPE (Mr McGann) Assignment - Generations
END:VEVENT
END:VCALENDAR
