BEGIN:VCALENDAR
VERSION:2.0
PRODID:-//Squarespace Inc/Squarespace 6//v6//EN
BEGIN:VEVENT
UID:5974d4d1f7e0ab04b3aab186@squarespace.com
DTSTAMP:20170726T225929Z
DTSTART:20170905T120000Z
DTEND:20170905T130000Z
SUMMARY:7H - Drama (Ms Gault) Improvisation Performance
END:VEVENT
END:VCALENDAR
