BEGIN:VCALENDAR
VERSION:2.0
PRODID:-//Squarespace Inc/Squarespace 6//v6//EN
BEGIN:VEVENT
UID:5974d500b8a79b94b0c23c78@squarespace.com
DTSTAMP:20170726T230027Z
DTSTART:20170906T120000Z
DTEND:20170906T130000Z
SUMMARY:7L - Drama (Ms Gault) Improvisation Performance
END:VEVENT
END:VCALENDAR
