BEGIN:VCALENDAR
VERSION:2.0
PRODID:-//Squarespace Inc/Squarespace 6//v6//EN
BEGIN:VEVENT
UID:5974d52fe6f2e17330e22a34@squarespace.com
DTSTAMP:20170726T230204Z
DTSTART:20170907T120000Z
DTEND:20170907T130000Z
SUMMARY:7H - Design Technology (Mr Manskie)Practical - Pencil Case
END:VEVENT
END:VCALENDAR
